BEGIN:VCALENDAR
VERSION:2.0
PRODID:-//ChamberMaster//Event Calendar 2.0//EN
METHOD:PUBLISH
X-PUBLISHED-TTL:P3D
REFRESH-INTERVAL:P3D
CALSCALE:GREGORIAN
BEGIN:VEVENT
DTSTART:20161109T230000Z
DTEND:20161110T003000Z
X-MICROSOFT-CDO-ALLDAYEVENT:FALSE
SUMMARY:FREE Seminar: How to Avoid the Most Common Remodeling Mistakes
DESCRIPTION:Looking to update your kitchen or bathroom but don't know where to start? Perhaps you are preparing yourself for an upcoming remodel that you hope to start within the next few months. Whatever your situation\, we invite you to join us at one of our remodeling seminars. \n\nWe will discuss what to expect during a remodel\, how to find the right service providers\, staying within budget and on-schedule\, dealing with unexpected challenges and much more!\n\nThe seminar is free to attend\, but an RSVP is required\, as seating is limited. RSVP by calling 941-757-3395.\n\nMore Info: http://bathkitchenremodels.com/seminars/
X-ALT-DESC;FMTTYPE=text/html:Looking to update your kitchen or bathroom but don&rsquo\;t know where to start? Perhaps you are preparing yourself for an upcoming remodel that you hope to start within the next few months. Whatever your situation\, we invite you to join us at one of our remodeling seminars.&nbsp\;<br />\nWe will discuss what to expect during a remodel\, how to find the right service providers\, staying within budget and on-schedule\, dealing with unexpected challenges and much more!<br />\n<span style="color:#111111">The seminar is free to attend\, but an RSVP is required\, as seating is limited. RSVP by calling 941-757-3395.<br />\nMore Info:&nbsp\;</span><a href="http://bathkitchenremodels.com/seminars/">http://bathkitchenremodels.com/seminars/</a><br />\n&nbsp\;
LOCATION:Where: Gilbert Design Build 816 Manatee Ave East #102\, Bradenton 34208 Info@bkremodels.com 941-757-3395
UID:e.9232.1547
SEQUENCE:3
DTSTAMP:20260422T062925Z
URL:https://business.suncoastba.org/events/details/free-seminar-how-to-avoid-the-most-common-remodeling-mistakes-11-09-2016-1547
END:VEVENT

END:VCALENDAR
