BEGIN:VCALENDAR
VERSION:2.0
PRODID:-//ChamberMaster//Event Calendar 2.0//EN
METHOD:PUBLISH
X-PUBLISHED-TTL:P3D
REFRESH-INTERVAL:P3D
CALSCALE:GREGORIAN
BEGIN:VEVENT
DTSTART:20160114T223000Z
DTEND:20160115T013000Z
X-MICROSOFT-CDO-ALLDAYEVENT:FALSE
SUMMARY:General Membership Meeting
DESCRIPTION:Join us for the monthly General Membership Meeting. The January guest is Allen Parsons\, Sarasota County Planning Division Manager\n\nTopic:  Comprehensive Plan Update that will be released on January 19.\n\n\n\nWe will also have committee reports\, info on how to get involved with the BIA\, lot's of great networking!
X-ALT-DESC;FMTTYPE=text/html:Join us for the monthly General Membership Meeting. The January guest is Allen Parsons\,&nbsp\;Sarasota County Planning Division Manager<br />\nTopic: &nbsp\;Comprehensive Plan Update&nbsp\;that will be released on January 19.<br />\n<br />\nWe will also have committee reports\, info on how to get involved with the BIA\, lot&#39\;s of great networking!&nbsp\;
LOCATION:The Meadows Country Club 3101 Longmeadow Sarasota\, FL 34235
UID:e.9232.1044
SEQUENCE:3
DTSTAMP:20260421T113445Z
URL:https://business.suncoastba.org/events/details/general-membership-meeting-01-14-2016-1044
END:VEVENT

END:VCALENDAR
