BEGIN:VCALENDAR
VERSION:2.0
PRODID:-//ChamberMaster//Event Calendar 2.0//EN
METHOD:PUBLISH
X-PUBLISHED-TTL:P3D
REFRESH-INTERVAL:P3D
CALSCALE:GREGORIAN
BEGIN:VEVENT
DTSTART:20160714T213000Z
DTEND:20160715T003000Z
X-MICROSOFT-CDO-ALLDAYEVENT:FALSE
SUMMARY:General Membership Meeting
DESCRIPTION:Join us for the monthly General Membership Meeting. \n\nJuly meeting will be an update by Jay Carlson\, Doug Buck\, Ken Patton and Dave Wissel in a panel discussion on the pending changes by the Florida Supreme Court decisions on Workers Compensation.\n\n\n\nWe will also have committee reports\, info on how to get involved with the BIA\, lot's of great networking!
X-ALT-DESC;FMTTYPE=text/html:Join us for the monthly General Membership Meeting.&nbsp\;<br />\n<span style="font-size:14px\;"><span style="font-family:arial\;">July meeting will be<span style="color: rgb(33\, 33\, 33)\; line-height: normal\;">&nbsp\;an update by Jay Carlson\, Doug Buck\, Ken Patton and Dave Wissel&nbsp\;in a panel&nbsp\;discussion on the pending changes by the Florida Supreme Court decisions on Workers Compensation.</span></span></span><br />\n<br />\nWe will also have committee reports\, info on how to get involved with the BIA\, lot&#39\;s of great networking!&nbsp\;
LOCATION:The Meadows Country Club 3101 Longmeadow Sarasota\, FL 34235
UID:e.9232.1050
SEQUENCE:3
DTSTAMP:20260421T211710Z
URL:https://business.suncoastba.org/events/details/general-membership-meeting-07-14-2016-1050
END:VEVENT

END:VCALENDAR
