BEGIN:VCALENDAR
VERSION:2.0
PRODID:-//ChamberMaster//Event Calendar 2.0//EN
METHOD:PUBLISH
X-PUBLISHED-TTL:P3D
REFRESH-INTERVAL:P3D
CALSCALE:GREGORIAN
BEGIN:VEVENT
DTSTART:20160811T213000Z
DTEND:20160812T003000Z
X-MICROSOFT-CDO-ALLDAYEVENT:FALSE
SUMMARY:General Membership Meeting
DESCRIPTION:Join us for the monthly general membership meeting. Networking 5:30-6:30 followed by dinner\, MSBIA updates\, and guest speakers\n\nCome meet Sarasota Building Official Kathy Croteau & Lee Hayes-Byron from Sarasota County\n\n \n\nWe will also have committee reports\, info on how to get involved with the BIA\, lot's of great networking!
X-ALT-DESC;FMTTYPE=text/html:Join us for the monthly general membership meeting.&nbsp\;<span style="font-size:14px\;"><span style="font-family:century gothic\;">Networking 5:30-6:30 followed by dinner\, MSBIA updates\, and guest speakers</span></span><br />\n<span style="font-size:14px\;"><span style="font-family:century gothic\;">Come meet Sarasota Building Official Kathy Croteau &amp\; Lee Hayes-Byron from Sarasota County</span></span><br />\n&nbsp\;<br />\nWe will also have committee reports\, info on how to get involved with the BIA\, lot&#39\;s of great networking!&nbsp\;
LOCATION:The Meadows Country Club 3101 Long Meadow Sarasota\, FL 34235
UID:e.9232.1051
SEQUENCE:3
DTSTAMP:20260421T233047Z
URL:https://business.suncoastba.org/events/details/general-membership-meeting-08-11-2016-1051
END:VEVENT

END:VCALENDAR
