BEGIN:VCALENDAR
VERSION:2.0
PRODID:-//ChamberMaster//Event Calendar 2.0//EN
METHOD:PUBLISH
X-PUBLISHED-TTL:P3D
REFRESH-INTERVAL:P3D
CALSCALE:GREGORIAN
BEGIN:VEVENT
DTSTART:20170413T213000Z
DTEND:20170414T003000Z
X-MICROSOFT-CDO-ALLDAYEVENT:FALSE
SUMMARY:General Membership Meeting
DESCRIPTION:For our April GMM we will welcome Edward Pinto\, Co-director and Chief Risk Officer at the International Center on Housing Risk\, a nonprofit\, non-partisan housing research center.
X-ALT-DESC;FMTTYPE=text/html:<div>\n<p><span style="margin: 0px\; color: rgb(31\, 73\, 125)\; font-family: &quot\;Calibri&quot\;\,sans-serif\; font-size: 11pt\;">For our April GMM we will welcome Edward Pinto\, Co-director and Chief Risk Officer at the International Center on Housing Risk\, </span><span style="margin: 0px\; color: rgb(31\, 78\, 121)\; font-family: &quot\;Calibri&quot\;\,sans-serif\; font-size: 11pt\;">a nonprofit\, non-partisan housing research center.</span></p>\n\n<p>&nbsp\;</p>\n</div>\n
LOCATION:Lakewood Ranch Country Club 7650 Legacy Blvd\, Lakewood Ranch\, FL 34202
UID:e.9232.1597
SEQUENCE:3
DTSTAMP:20260422T133133Z
URL:https://business.suncoastba.org/events/details/general-membership-meeting-1597
END:VEVENT

END:VCALENDAR
