BEGIN:VCALENDAR
VERSION:2.0
PRODID:-//ChamberMaster//Event Calendar 2.0//EN
METHOD:PUBLISH
X-PUBLISHED-TTL:P3D
REFRESH-INTERVAL:P3D
CALSCALE:GREGORIAN
BEGIN:VEVENT
DTSTART:20160609T213000Z
DTEND:20160610T003000Z
X-MICROSOFT-CDO-ALLDAYEVENT:FALSE
SUMMARY:General Membership Meeting 6.9.16
DESCRIPTION:Join us for a fun night of networking and meeting our new members! \n\n\n\nWe will also have committee reports\, info on how to get involved with the BIA\, lot's of great networking!
X-ALT-DESC;FMTTYPE=text/html:Join us for a fun night of networking and meeting our new members!&nbsp\;<br />\n<br />\nWe will also have committee reports\, info on how to get involved with the BIA\, lot&#39\;s of great networking!&nbsp\;
LOCATION:The Meadows Country Club 3101 Longmeadow Sarasota\, FL 34235
UID:e.9232.1049
SEQUENCE:3
DTSTAMP:20260421T201617Z
URL:https://business.suncoastba.org/events/details/general-membership-meeting-6-9-16-06-09-2016-1049
END:VEVENT

END:VCALENDAR
