BEGIN:VCALENDAR
VERSION:2.0
PRODID:-//ChamberMaster//Event Calendar 2.0//EN
METHOD:PUBLISH
X-PUBLISHED-TTL:P3D
REFRESH-INTERVAL:P3D
CALSCALE:GREGORIAN
BEGIN:VEVENT
DTSTART:20210108T140000Z
DTEND:20210108T150000Z
X-MICROSOFT-CDO-ALLDAYEVENT:FALSE
SUMMARY:Get the Most Out of Your MSBIA Membership
DESCRIPTION:Join us for our first MSBIA Orientation of the New Year. Open to all members\, new and seasoned!!! Learn how to get the most of your Membership Investment!
X-ALT-DESC;FMTTYPE=text/html:Join us for our first MSBIA Orientation of the New Year. Open to all members\, new and seasoned!!! Learn how to get the most of your Membership Investment!
LOCATION:MSBIA Office 6650 Professional Pkwy W. Suite 102. Sarasota\, FL 34240
UID:e.9232.2628
SEQUENCE:3
DTSTAMP:20260423T094042Z
URL:https://business.suncoastba.org/events/details/get-the-most-out-of-your-msbia-membership-2628
END:VEVENT

END:VCALENDAR
