BEGIN:VCALENDAR
VERSION:2.0
PRODID:-//ChamberMaster//Event Calendar 2.0//EN
METHOD:PUBLISH
X-PUBLISHED-TTL:P3D
REFRESH-INTERVAL:P3D
CALSCALE:GREGORIAN
BEGIN:VEVENT
DTSTART:20170825T123000Z
DTEND:20170825T160000Z
X-MICROSOFT-CDO-ALLDAYEVENT:FALSE
SUMMARY:Google Marketing Seminar
DESCRIPTION:More Leads\, Better Leads:\n\nHow to improve your Marketing ROI directly from Google. Better understanding of Google and Google Adwords. Stay up to date with the latest marketing pieces on the Internet.
X-ALT-DESC;FMTTYPE=text/html:<span style="font-size:14px\;"><span style="font-weight:bold\;language:en-US\;"><span style="font-family:calibri\;">More Leads\, Better Leads:</span></span><br />\n<span style="font-weight:bold\;language:en-US\;"><span style="font-family:calibri\;">How to improve your </span></span><span style="font-weight:bold\;language:en-US\;"><span style="font-family:calibri\;">Marketing ROI </span></span><span style="font-weight:bold\;language:en-US\;"><span style="font-family:calibri\;">directly from Google. Better understanding of Google and Google Adwords. Stay up to date with the latest marketing pieces on the Internet.&nbsp\;</span></span><br />\n&nbsp\;</span>
LOCATION:MSBIA Office 6650 Professional Pkwy West #102 Sarasota\, FL. 34240
UID:e.9232.1774
SEQUENCE:3
DTSTAMP:20260422T193854Z
URL:https://business.suncoastba.org/events/details/google-marketing-seminar-1774
END:VEVENT

END:VCALENDAR
