BEGIN:VCALENDAR
VERSION:2.0
PRODID:-//ChamberMaster//Event Calendar 2.0//EN
METHOD:PUBLISH
X-PUBLISHED-TTL:P3D
REFRESH-INTERVAL:P3D
CALSCALE:GREGORIAN
BEGIN:VEVENT
DTSTART:20170831T200000Z
DTEND:20170831T210000Z
X-MICROSOFT-CDO-ALLDAYEVENT:FALSE
SUMMARY:Government Affairs Meeting
DESCRIPTION:
X-ALT-DESC;FMTTYPE=text/html:
LOCATION:MSBIA Office 6650 Professional Parkway West Suite 102 Sarasota\, FL 34240
UID:e.9232.1776
SEQUENCE:3
DTSTAMP:20260422T200445Z
URL:https://business.suncoastba.org/events/details/government-affairs-meeting-1776
END:VEVENT

END:VCALENDAR
