BEGIN:VCALENDAR
VERSION:2.0
PRODID:-//ChamberMaster//Event Calendar 2.0//EN
METHOD:PUBLISH
X-PUBLISHED-TTL:P3D
REFRESH-INTERVAL:P3D
CALSCALE:GREGORIAN
BEGIN:VEVENT
DTSTART:20180115T210000Z
DTEND:20180115T220000Z
X-MICROSOFT-CDO-ALLDAYEVENT:FALSE
SUMMARY:Government Affairs Meeting
DESCRIPTION:Government Affairs
X-ALT-DESC;FMTTYPE=text/html:Government Affairs&nbsp\;&nbsp\;&nbsp\;&nbsp\;
LOCATION:MSBIA Office 6650 Professional Pkwy West Suite 102 Sarasota\, FL 34240
UID:e.9232.1850
SEQUENCE:3
DTSTAMP:20260423T035406Z
URL:https://business.suncoastba.org/events/details/government-affairs-meeting-1850
END:VEVENT

END:VCALENDAR
