BEGIN:VCALENDAR
VERSION:2.0
PRODID:-//ChamberMaster//Event Calendar 2.0//EN
METHOD:PUBLISH
X-PUBLISHED-TTL:P3D
REFRESH-INTERVAL:P3D
CALSCALE:GREGORIAN
BEGIN:VEVENT
DTSTART:20180219T210000Z
DTEND:20180219T220000Z
X-MICROSOFT-CDO-ALLDAYEVENT:FALSE
SUMMARY:Government Affairs Meeting
DESCRIPTION:Government Affairs
X-ALT-DESC;FMTTYPE=text/html:<span style="color: rgb(51\, 51\, 51)\; font-family: sans-serif\, Arial\, Verdana\, &quot\;Trebuchet MS&quot\;\; font-size: 13px\; background-color: rgb(255\, 255\, 255)\;">Government Affairs&nbsp\; &nbsp\;&nbsp\;</span>
LOCATION:MSBIA Office 6650 Professional Pkwy Suite 102 Sarasota\, FL 34240
UID:e.9232.1854
SEQUENCE:3
DTSTAMP:20260423T053223Z
URL:https://business.suncoastba.org/events/details/government-affairs-meeting-1854
END:VEVENT

END:VCALENDAR
