BEGIN:VCALENDAR
VERSION:2.0
PRODID:-//ChamberMaster//Event Calendar 2.0//EN
METHOD:PUBLISH
X-PUBLISHED-TTL:P3D
REFRESH-INTERVAL:P3D
CALSCALE:GREGORIAN
BEGIN:VEVENT
DTSTART:20200217T210000Z
DTEND:20200217T220000Z
X-MICROSOFT-CDO-ALLDAYEVENT:FALSE
SUMMARY:Government Affairs Meeting
DESCRIPTION:Government Affairs Meeting
X-ALT-DESC;FMTTYPE=text/html:Government Affairs Meeting&nbsp\;&nbsp\;&nbsp\;&nbsp\;
LOCATION:Gold Coast Eagle Distributing 7051 Wireless Court Sarasota\, FL 34240 (in Lakewood Ranch).
UID:e.9232.2564
SEQUENCE:3
DTSTAMP:20260424T021102Z
URL:https://business.suncoastba.org/events/details/government-affairs-meeting-2564
END:VEVENT

END:VCALENDAR
