BEGIN:VCALENDAR
VERSION:2.0
PRODID:-//ChamberMaster//Event Calendar 2.0//EN
METHOD:PUBLISH
X-PUBLISHED-TTL:P3D
REFRESH-INTERVAL:P3D
CALSCALE:GREGORIAN
BEGIN:VEVENT
DTSTART:20200720T193000Z
DTEND:20200720T213000Z
X-MICROSOFT-CDO-ALLDAYEVENT:FALSE
SUMMARY:Government Affairs Meeting
DESCRIPTION:Government Affairs Meeting
X-ALT-DESC;FMTTYPE=text/html:Government Affairs Meeting&nbsp\;&nbsp\;&nbsp\;&nbsp\;
LOCATION:MSBIA Office 6650 Professional Pkwy West\, Suite 102 Sarasota\, FL 34240 (in Lakewood Ranch).
UID:e.9232.2580
SEQUENCE:3
DTSTAMP:20260423T200213Z
URL:https://business.suncoastba.org/events/details/government-affairs-meeting-2580
END:VEVENT

END:VCALENDAR
