BEGIN:VCALENDAR
VERSION:2.0
PRODID:-//ChamberMaster//Event Calendar 2.0//EN
METHOD:PUBLISH
X-PUBLISHED-TTL:P3D
REFRESH-INTERVAL:P3D
CALSCALE:GREGORIAN
BEGIN:VEVENT
DTSTART:20161102T200000Z
DTEND:20161102T230000Z
X-MICROSOFT-CDO-ALLDAYEVENT:FALSE
SUMMARY:GRAND OPENING Celebration: Gilbert Design Build Sarasota Design
DESCRIPTION:Thinking about updating a kitchen or bathroom\, but don't know where to start? Join us at the grand opening of our second location in Sarasota. Meet our staff and tour our new design center. Food\, drinks and giveaways will be provided! \n\n \n\nSarasota Chamber of Commerce ribbon cutting at 4:30pm. \n\n \n\nFree to attend. RSVP by calling 941-757-3395.\n\n \n\nDate: Wednesday\, November 2\, 2016\n\n\n\nTime: 4-7 pm\n\n\n\nWhere: Gilbert Design Build Sarasota Design Center\n\n4049 Clark Rd\, Sarasota 34233 (The Expo on Clark Plaza) \n\n \n\nMore Information: http://bathkitchenremodels.com/announcements/
X-ALT-DESC;FMTTYPE=text/html:&nbsp\;<br />\n<span style="color:#111111">Thinking about updating a kitchen or bathroom\, but don&#39\;t know where to start? Join us at the grand opening of our second location in Sarasota. Meet our staff and tour our new design center. Food\, drinks and giveaways will be provided! </span><br />\n&nbsp\;<br />\n<span style="color:#111111">Sarasota Chamber of Commerce ribbon cutting at 4:30pm. </span><br />\n&nbsp\;<br />\n<span style="color:#111111">Free to attend. RSVP by calling 941-757-3395.</span><br />\n&nbsp\;<br />\n<span style="color:#111111">Date: Wednesday\, November 2\, 2016<br />\n<br />\nTime: 4-7 pm<br />\n<br />\nWhere: Gilbert Design Build Sarasota Design Center<br />\n4049 Clark Rd\, Sarasota 34233 (The Expo on Clark Plaza) </span><br />\n&nbsp\;<br />\nMore Information: <a href="http://bathkitchenremodels.com/announcements/">http://bathkitchenremodels.com/announcements/</a>
LOCATION:Gilbert Design Build Sarasota Design Center 4049 Clark Rd\, Sarasota 34233 (The Expo on Clark Plaza)
UID:e.9232.1545
SEQUENCE:3
DTSTAMP:20260422T050051Z
URL:https://business.suncoastba.org/events/details/grand-opening-celebration-gilbert-design-build-sarasota-design-1545
END:VEVENT

END:VCALENDAR
