BEGIN:VCALENDAR
VERSION:2.0
PRODID:-//ChamberMaster//Event Calendar 2.0//EN
METHOD:PUBLISH
X-PUBLISHED-TTL:P3D
REFRESH-INTERVAL:P3D
CALSCALE:GREGORIAN
BEGIN:VEVENT
DTSTART:20211029T150000Z
DTEND:20211029T203000Z
X-MICROSOFT-CDO-ALLDAYEVENT:FALSE
SUMMARY:Gulf Coast Shoot Out
DESCRIPTION:Join us for the 2021 Gulf Coast Shoot Out.\n\nClick here for  registration. \n\n\n\nOnly $450.00 per team when you sign up by Octoberr 22nd ($475 after)\n\n\n\nRegistration\, Lunch & Warm Up 11am\n\nCompetition begins at 1pm\n\n\n\nLimited Shot Guns available for rent from the Club. Reserve Early! Contact Knights Trail directly for details.
X-ALT-DESC;FMTTYPE=text/html:<p><span background-color:="" font-size:="" style="color: rgb(51\, 51\, 51)\; font-family: sans-serif\, Arial\, Verdana\, " trebuchet="">Join us for the 2021&nbsp\;Gulf Coast Shoot Out.</span></p>\n\n<p><span background-color:="" font-size:="" style="color: rgb(51\, 51\, 51)\; font-family: sans-serif\, Arial\, Verdana\, " trebuchet="">Click here for&nbsp\;<a href="https://chambermaster.blob.core.windows.net/userfiles/UserFiles/chambers/9232/File/registration1.pdf"> registration.&nbsp\;</a></span><br />\n<br font-size:="" style="color: rgb(51\, 51\, 51)\; font-family: sans-serif\, Arial\, Verdana\, " trebuchet="" />\n<span background-color:="" font-size:="" style="color: rgb(51\, 51\, 51)\; font-family: sans-serif\, Arial\, Verdana\, " trebuchet="">Only $450.00&nbsp\;per team when you sign up by Octoberr 22nd (</span><span background-color:="" font-size:="" style="color: rgb(51\, 51\, 51)\; font-family: sans-serif\, Arial\, Verdana\, " trebuchet="">$475 after)</span><br font-size:="" style="color: rgb(51\, 51\, 51)\; font-family: sans-serif\, Arial\, Verdana\, " trebuchet="" />\n<br font-size:="" style="color: rgb(51\, 51\, 51)\; font-family: sans-serif\, Arial\, Verdana\, " trebuchet="" />\n<span background-color:="" font-size:="" style="color: rgb(51\, 51\, 51)\; font-family: sans-serif\, Arial\, Verdana\, " trebuchet="">Registration\, Lunch &amp\; Warm Up 11am<br />\nCompetition begins at&nbsp\;</span>1pm<br />\n<br />\n<span background-color:="" font-size:="" trebuchet="">Limited Shot Guns available for rent from the Club.&nbsp\;</span><span background-color:="" font-size:="" trebuchet="">Reserve Early! Contact Knights Trail directly for details.</span><br />\n<br />\n<br />\n&nbsp\;</p>\n
LOCATION:SARASOTA TRAP\, SKEET & CLAYS Knights Trail Park 3445 Rustic Rd Nokomis\, FL 34275
UID:e.9232.2664
SEQUENCE:3
DTSTAMP:20260422T225331Z
URL:https://business.suncoastba.org/events/details/gulf-coast-shoot-out-2664
END:VEVENT

END:VCALENDAR
