BEGIN:VCALENDAR
VERSION:2.0
PRODID:-//ChamberMaster//Event Calendar 2.0//EN
METHOD:PUBLISH
X-PUBLISHED-TTL:P3D
REFRESH-INTERVAL:P3D
CALSCALE:GREGORIAN
BEGIN:VEVENT
DTSTART:20221028T123000Z
DTEND:20221028T180000Z
X-MICROSOFT-CDO-ALLDAYEVENT:FALSE
SUMMARY:Gulf Coast Shoot Out & 60th Anniversary BBQ
DESCRIPTION:Join us for the 2022 Gulf Coast Shoot Out and the MSBIA's 60th Anniversary BBQ!\n\n\n\nOnly $450.00 per team when you sign up by October 22nd ($475 after)\n\n\n\nRegistration & Warm Up 8:30 AM\n\nCompetition Begins at 9:30 AM \n\n\n\nLimited Shot Guns available for rent from the Club. Reserve Early! Contact Knights Trail directly for details.
X-ALT-DESC;FMTTYPE=text/html:<p><span background-color:="" font-size:="" style="color: rgb(51\, 51\, 51)\; font-family: sans-serif\, Arial\, Verdana\, " trebuchet="">Join us for the 2022&nbsp\;Gulf Coast Shoot Out and the MSBIA&#39\;s 60th Anniversary BBQ!</span><br />\n<br font-size:="" style="color: rgb(51\, 51\, 51)\; font-family: sans-serif\, Arial\, Verdana\, " trebuchet="" />\n<span background-color:="" font-size:="" style="color: rgb(51\, 51\, 51)\; font-family: sans-serif\, Arial\, Verdana\, " trebuchet="">Only $450.00&nbsp\;per team when you sign up by October 22nd (</span><span background-color:="" font-size:="" style="color: rgb(51\, 51\, 51)\; font-family: sans-serif\, Arial\, Verdana\, " trebuchet="">$475 after)</span><br font-size:="" style="color: rgb(51\, 51\, 51)\; font-family: sans-serif\, Arial\, Verdana\, " trebuchet="" />\n<br font-size:="" style="color: rgb(51\, 51\, 51)\; font-family: sans-serif\, Arial\, Verdana\, " trebuchet="" />\n<span background-color:="" font-size:="" style="color: rgb(51\, 51\, 51)\; font-family: sans-serif\, Arial\, Verdana\, " trebuchet="">Registration &amp\; Warm Up 8:30 AM<br />\nCompetition Begins at 9:30 AM&nbsp\;</span><br />\n<br />\n<span background-color:="" font-size:="" trebuchet="">Limited Shot Guns available for rent from the Club.&nbsp\;</span><span background-color:="" font-size:="" trebuchet="">Reserve Early! Contact Knights Trail directly for details.</span><br />\n<br />\n<br />\n&nbsp\;</p>\n
LOCATION:SARASOTA TRAP\, SKEET & CLAYS Knights Trail Park 3445 Rustic Rd Nokomis\, FL 34275
UID:e.9232.2839
SEQUENCE:3
DTSTAMP:20260422T045429Z
URL:https://business.suncoastba.org/events/details/gulf-coast-shoot-out-60th-anniversary-bbq-2839
END:VEVENT

END:VCALENDAR
