BEGIN:VCALENDAR
VERSION:2.0
PRODID:-//ChamberMaster//Event Calendar 2.0//EN
METHOD:PUBLISH
X-PUBLISHED-TTL:P3D
REFRESH-INTERVAL:P3D
CALSCALE:GREGORIAN
BEGIN:VEVENT
DTSTART:20201030T160000Z
DTEND:20201030T210000Z
X-MICROSOFT-CDO-ALLDAYEVENT:FALSE
SUMMARY:Hallow's Eve on the Green Golf Tournament
DESCRIPTION:Join us for the first Hallow's Eve on the Green Golf Tournament\, wear your best costume for your chance to win a prize!\n\n\n\nDONT GOLF? BE A SPONSOR! If you don't golf and want to show off your products to the local building industry professionals\, I suggest you sponsor a staffed hole where you will have the opportunity to meet everyone out on the course!\n\n\n\nClick here for Registration Form.\n\n\n\nBe a sponsor and show your support for MSBIA\, contact Rebecca@ms-bia.org for more details!
X-ALT-DESC;FMTTYPE=text/html:<span style="background-color: rgb(255\, 255\, 255)\; color: rgb(29\, 33\, 41)\; font-family: Helvetica\, Arial\, sans-serif\; font-size: 14px\;">Join us for the first Hallow&#39\;s Eve on the Green Golf Tournament\, wear your best costume for your chance to win a prize!</span><br font-size:="" style="color: rgb(51\, 51\, 51)\; font-family: sans-serif\, Arial\, Verdana\, " trebuchet="" />\n<br style="background-color: rgb(255\, 255\, 255)\; color: rgb(29\, 33\, 41)\; font-family: Helvetica\, Arial\, sans-serif\; font-size: 14px\;" />\n<span style="background-color: rgb(255\, 255\, 255)\; color: rgb(29\, 33\, 41)\; font-family: Helvetica\, Arial\, sans-serif\; font-size: 14px\;">DONT GOLF? BE A SPONSOR! If you don&#39\;t golf and want to show off your products to the local building industry professionals\, I suggest you sponsor a staffed hole where you will have the opportunity to meet everyone out on the course!</span><br font-size:="" style="color: rgb(51\, 51\, 51)\; font-family: sans-serif\, Arial\, Verdana\, " trebuchet="" />\n<br />\nClick <a href="https://chambermaster.blob.core.windows.net/userfiles/UserFiles/chambers/9232/File/hallowseveonthegreen.pdf">here </a>for Registration Form.<br />\n<br />\nBe a sponsor and show your support for MSBIA\, contact <a href="mailto:rebecca@ms-bia.org">Rebecca@ms-bia.org </a>for more details!<br />\n&nbsp\;
LOCATION:Plantation Golf & Country Club 500 Rockley Blvd. Venice\, FL 34293
UID:e.9232.2557
SEQUENCE:3
DTSTAMP:20260423T151358Z
URL:https://business.suncoastba.org/events/details/hallow-s-eve-on-the-green-golf-tournament-2557
END:VEVENT

END:VCALENDAR
