BEGIN:VCALENDAR
VERSION:2.0
PRODID:-//ChamberMaster//Event Calendar 2.0//EN
METHOD:PUBLISH
X-PUBLISHED-TTL:P3D
REFRESH-INTERVAL:P3D
CALSCALE:GREGORIAN
BEGIN:VEVENT
DTSTART:20150926T143000Z
DTEND:20150926T160000Z
X-MICROSOFT-CDO-ALLDAYEVENT:FALSE
SUMMARY:How to Avoid the Most Common Remodeling Mistakes
DESCRIPTION:Looking to update your kitchen or bath but don't know where to start? You've come to the right place.\n\n\n\nFrom flooring to cabinets\, to paint color and fixtures\, remodeling your home is no simple task. With the endless options to choose from\, we know just how overwhelming it can be to turn your vision into a reality. To ensure a seamless renovation experience\, our team is by your side every step of the way.\n\n\n\nJoin us at one of our free bath and kitchen seminars and walk away with a wealth of knowledge\, sure to ease you into your next home project. Whether you are in the preliminary stages or just looking to stay in the loop of the latest trends\, we look forward to meeting you.\n\n\n\nDuring this seminar you will learn:\n\n           What to expect during a remodel\n\n           How to find the right service providers\n\n           Staying within budget and on-schedule\n\n           Dealing with unexpected challenges\n\nAnd plenty more!
X-ALT-DESC;FMTTYPE=text/html:Looking to update your kitchen or bath but don&rsquo\;t know where to start? You&rsquo\;ve come to the right place.<br />\n<br />\nFrom flooring to cabinets\, to paint color and fixtures\, remodeling your home is no simple task. With the endless options to choose from\, we know just how overwhelming it can be to turn your vision into a reality. To ensure a seamless renovation experience\, our team is by your side every step of the way.<br />\n<br />\nJoin us at one of our free bath and kitchen seminars and walk away with a wealth of knowledge\, sure to ease you into your next home project. Whether you are in the preliminary stages or just looking to stay in the loop of the latest trends\, we look forward to meeting you.<br />\n<br />\nDuring this seminar you will learn:<br />\n&middot\; &nbsp\; &nbsp\; &nbsp\; &nbsp\; &nbsp\;What to expect during a remodel<br />\n&middot\; &nbsp\; &nbsp\; &nbsp\; &nbsp\; &nbsp\;How to find the right service providers<br />\n&middot\; &nbsp\; &nbsp\; &nbsp\; &nbsp\; &nbsp\;Staying within budget and on-schedule<br />\n&middot\; &nbsp\; &nbsp\; &nbsp\; &nbsp\; &nbsp\;Dealing with unexpected challenges<br />\nAnd plenty more!
LOCATION:DreamMaker Bath & Kitchen 816 Manatee Ave. E. Suite 102 Bradenton\, FL 34208
UID:e.9232.891
SEQUENCE:3
DTSTAMP:20260421T173001Z
URL:https://business.suncoastba.org/events/details/how-to-avoid-the-most-common-remodeling-mistakes-09-26-2015-891
END:VEVENT

END:VCALENDAR
