BEGIN:VCALENDAR
VERSION:2.0
PRODID:-//ChamberMaster//Event Calendar 2.0//EN
METHOD:PUBLISH
X-PUBLISHED-TTL:P3D
REFRESH-INTERVAL:P3D
CALSCALE:GREGORIAN
BEGIN:VEVENT
DTSTART:20180118T123000Z
DTEND:20180118T133000Z
X-MICROSOFT-CDO-ALLDAYEVENT:FALSE
SUMMARY:Industry Issues Committee Meeting
DESCRIPTION:The Industry Issues Committee serves as a recommending body to the MSBIA Executive Committee and Board of Directors for policy development and action on development and building issues of either local or statewide impact to the home building industry. The Industry Issues Chair acts as a liaison between the Committee and the Board.
X-ALT-DESC;FMTTYPE=text/html:<p>The Industry Issues Committee&nbsp\;serves as a recommending body to the MSBIA Executive Committee and Board of Directors for policy development and action on development and building issues of either local or statewide impact to the home building industry.&nbsp\;The Industry Issues Chair acts as&nbsp\;a liaison between the Committee and the Board.</p>\n
LOCATION:MSBIA Office 6650 Professional Parkway West Suite 102 Sarasota\, FL 34240
UID:e.9232.1804
SEQUENCE:3
DTSTAMP:20260423T035028Z
URL:https://business.suncoastba.org/events/details/industry-issues-committee-meeting-1804
END:VEVENT

END:VCALENDAR
