BEGIN:VCALENDAR
VERSION:2.0
PRODID:-//ChamberMaster//Event Calendar 2.0//EN
METHOD:PUBLISH
X-PUBLISHED-TTL:P3D
REFRESH-INTERVAL:P3D
CALSCALE:GREGORIAN
BEGIN:VEVENT
DTSTART:20230811T200000Z
DTEND:20230811T210000Z
X-MICROSOFT-CDO-ALLDAYEVENT:FALSE
SUMMARY:Inshore Captains Meeting- 2023 Sarasota Slam
DESCRIPTION:Inshore Captains Meeting for the 2023 Sarasota Slam. Inshore anglers are released to fish after the meeting.
X-ALT-DESC;FMTTYPE=text/html:Inshore Captains Meeting for the 2023 Sarasota Slam. Inshore anglers are released to fish after the meeting.
LOCATION:Manatee-Sarasota Building Industry Association Office 6650 Professional Parkway West\, Suite 102 Sarasota\, FL 34240
UID:e.9232.3241
SEQUENCE:3
DTSTAMP:20260421T140252Z
URL:https://business.suncoastba.org/events/details/inshore-captains-meeting-2023-sarasota-slam-3241
END:VEVENT

END:VCALENDAR
