BEGIN:VCALENDAR
VERSION:2.0
PRODID:-//ChamberMaster//Event Calendar 2.0//EN
METHOD:PUBLISH
X-PUBLISHED-TTL:P3D
REFRESH-INTERVAL:P3D
CALSCALE:GREGORIAN
BEGIN:VEVENT
DTSTART:20230811T190000Z
DTEND:20230811T200000Z
X-MICROSOFT-CDO-ALLDAYEVENT:FALSE
SUMMARY:Inshore Registration- 2023 Sarasota Slam
DESCRIPTION:Inshore Registration for the 2023 Sarasota Slam.
X-ALT-DESC;FMTTYPE=text/html:Inshore Registration for the 2023 Sarasota Slam.&nbsp\;
LOCATION:Manatee-Sarasota Building Industry Association Office 6650 Professional Parkway West\, Suite 102 Sarasota\, FL 34240
UID:e.9232.3242
SEQUENCE:3
DTSTAMP:20260421T123815Z
URL:https://business.suncoastba.org/events/details/inshore-registration-2023-sarasota-slam-3242
END:VEVENT

END:VCALENDAR
