BEGIN:VCALENDAR
VERSION:2.0
PRODID:-//ChamberMaster//Event Calendar 2.0//EN
METHOD:PUBLISH
X-PUBLISHED-TTL:P3D
REFRESH-INTERVAL:P3D
CALSCALE:GREGORIAN
BEGIN:VEVENT
DTSTART:20171109T230000Z
DTEND:20171110T020000Z
X-MICROSOFT-CDO-ALLDAYEVENT:FALSE
SUMMARY:Installation of Officers and Membership Meeting
DESCRIPTION:Join us for the Installation of the 2017 Board of Directors with a fabulous dinner and lots of networking.
X-ALT-DESC;FMTTYPE=text/html:Join us for the Installation of the 2017 Board of Directors with&nbsp\;a fabulous dinner and lots of networking.
LOCATION:The Westin Sarasota 1175 North Gulfstream Avenue Sarasota\, FL 34236
UID:e.9232.1592
SEQUENCE:3
DTSTAMP:20260423T005354Z
URL:https://business.suncoastba.org/events/details/installation-of-officers-and-membership-meeting-1592
END:VEVENT

END:VCALENDAR
