BEGIN:VCALENDAR
VERSION:2.0
PRODID:-//ChamberMaster//Event Calendar 2.0//EN
METHOD:PUBLISH
X-PUBLISHED-TTL:P3D
REFRESH-INTERVAL:P3D
CALSCALE:GREGORIAN
BEGIN:VEVENT
DTSTART:20201118T223000Z
DTEND:20201119T020000Z
X-MICROSOFT-CDO-ALLDAYEVENT:FALSE
SUMMARY:Installation of Officers and Membership Meeting
DESCRIPTION:Join us as we install Chris Conley (Conley Buick GMC) as our new President and say goodbye to our current President\, Michael Neal (Neal Communities) at the Installation of Officers. Happy Hour\, Dinner\, Awards and lots of networking!
X-ALT-DESC;FMTTYPE=text/html:<div><span style="color: rgb(5\, 5\, 5)\; font-family: &quot\;Segoe UI Historic&quot\;\, &quot\;Segoe UI&quot\;\, Helvetica\, Arial\, sans-serif\; font-size: 15px\; background-color: rgb(255\, 255\, 255)\;">Join us as we install Chris Conley (Conley Buick GMC) as our new President and say goodbye to our current President\, Michael Neal (Neal Communities) at the Installation of Officers. Happy Hour\, Dinner\, Awards and lots of networking!</span></div>\n
LOCATION:Mote Marine 1600 Ken Thompson Parkway Sarasota\, FL
UID:e.9232.2571
SEQUENCE:3
DTSTAMP:20260423T124146Z
URL:https://business.suncoastba.org/events/details/installation-of-officers-and-membership-meeting-2571
END:VEVENT

END:VCALENDAR
