BEGIN:VCALENDAR
VERSION:2.0
PRODID:-//ChamberMaster//Event Calendar 2.0//EN
METHOD:PUBLISH
X-PUBLISHED-TTL:P3D
REFRESH-INTERVAL:P3D
CALSCALE:GREGORIAN
BEGIN:VEVENT
DTSTART:20200427T160000Z
DTEND:20200515T210000Z
X-MICROSOFT-CDO-ALLDAYEVENT:FALSE
SUMMARY:Lego Building Contest
DESCRIPTION:MSBIA Lego Building Contest                               \n\n                                   \n\nCalling all kids!!! Due to recent events\, we know you may have time on your hands. Looking for a creative idea to bring some "shop and trade skills" back into your home school education?\n\n\n\nThe Manatee-Sarasota Building Industry Association is hosting a "Build your Best Construction Project" and challenging all Master Lego Builders under the age of 18 to show us your best skills. Winners will receive prizes\, dependent on the number of entries.\n\n\n\nSubmissions due by May 15th\, please email Rebecca@ms-bia.org for more information.\n\n\n\nInstructions:\n\n1) Have your child gather Legos or other materials/supplies (if you do not have Legos) in your          home.\n\n2) Let your child plan his/her construction project\, creativity is the key here!\n\n3) Take a picture of the project\, preferably with your child in the picture.\n\n4) Send the  photo to us by Facebook Direct Message or by email to  Rebecca@ms-bia.org by      Friday\, May 15th. Please include the 1st name and  age of the child who built the house.\n\n5) Depending on entries\, winners will be broken into age categories. There will be an overall     MSBIA Judges' Choice winner for the most creative. Photos will be posted to Facebook and the     photo with the most likes will win.\n\n6) We will post all of the homes and the winners on Facebook and Instagram.
X-ALT-DESC;FMTTYPE=text/html:<strong><span style="color:black\;"><span style="font-family:arial\,sans-serif\;"><span style="font-size:10.5pt\;">MSBIA Lego Building Contest&nbsp\;</span></span></span></strong> &nbsp\; &nbsp\; &nbsp\; &nbsp\; &nbsp\; &nbsp\; &nbsp\; &nbsp\; &nbsp\; &nbsp\; &nbsp\; &nbsp\; &nbsp\; &nbsp\; &nbsp\;<br />\n&nbsp\; &nbsp\; &nbsp\; &nbsp\; &nbsp\; &nbsp\; &nbsp\; &nbsp\; &nbsp\; &nbsp\; &nbsp\; &nbsp\; &nbsp\; &nbsp\; &nbsp\; &nbsp\; &nbsp\; &nbsp\;<br />\n<span style="color:black\;"><span style="font-family:arial\,sans-serif\;"><span style="font-size:10.5pt\;">Calling all kids!!! Due to recent events\, we know you may have time on your hands. Looking for a creative idea to bring some &ldquo\;shop and trade skills&rdquo\; back into your home school education?</span></span></span><br />\n<br />\n<span style="color:black\;"><span style="font-family:arial\,sans-serif\;"><span style="font-size:10.5pt\;">The Manatee-Sarasota Building Industry Association is hosting a &ldquo\;Build your Best Construction Project&rdquo\; and challenging all Master </span></span></span><span style="color:black\;"><span style="font-size:10.5pt\;">Lego Builders under the age of 18 to show us your best skills. Winners will receive prizes\, dependent on the number of entries.</span></span><br />\n<br />\n<span style="color:black\;"><span style="font-size:10.5pt\;">Submissions due by May 15<sup>th</sup>\, please email <a href="mailto:Rebecca@ms-bia.org">Rebecca@ms-bia.org</a> for more information.</span></span><br />\n<br />\n<span style="color:black\;"><span style="font-family:century gothic\,sans-serif\;"><span style="font-size:10.5pt\;">I<span style="font-family:arial\;">nstructions:<br />\n1) Have your child gather Legos or other materials/supplies (if you do&nbsp\;not have&nbsp\;Legos) in </span></span></span></span><span style="font-family:arial\;"><span style="color:black\;"><span style="font-size:10.5pt\;">your&nbsp\; &nbsp\; &nbsp\; </span></span></span>&nbsp\;&nbsp\;&nbsp\;&nbsp\;<span style="font-family:arial\;"><span style="color:black\;"><span style="font-size:10.5pt\;">home.<br />\n2) Let your child plan his/her construction project\, creativity is the key</span></span>&nbsp\;<span style="color:black\;"><span style="font-size:10.5pt\;">here!<br />\n3) Take a picture of the project\, preferably with your child in the picture.<br />\n4) Send&nbsp\;the&nbsp\; </span></span><span style="color:black\;"><span style="font-size:10.5pt\;">photo to us by Facebook Direct Message or by email</span></span>&nbsp\;<span style="color:black\;"><span style="font-size:10.5pt\;">to&nbsp\;</span></span>&nbsp\;<u><span style="font-size:10.5pt\;"><a href="mailto:Rebecca@ms-bia.org"><span style="color:mediumblue\;">Rebecca@ms-bia.org</span></a></span></u>&nbsp\;<span style="color:black\;"><span style="font-size:10.5pt\;">by </span></span></span>&nbsp\;&nbsp\;&nbsp\;&nbsp\;<span style="font-family:arial\;">&nbsp\;<span style="color:black\;"><span style="font-size:10.5pt\;">Friday\, May 15th. Please include the 1st name and&nbsp\;&nbsp\;age of the child who built the</span></span>&nbsp\;<span style="color:black\;"><span style="font-size:10.5pt\;">house.<br />\n5) Depending on entries\, winners will be broken into age categories. There will be </span></span><span style="color:black\;"><span style="font-size:10.5pt\;">an </span></span><span style="color:black\;"><span style="font-size:10.5pt\;">overall </span></span></span>&nbsp\;&nbsp\;&nbsp\;&nbsp\;<span style="font-family:arial\;"><span style="color:black\;"><span style="font-size:10.5pt\;">MSBIA Judges&rsquo\; Choice winner for the most creative<strong>.&nbsp\;</strong></span>Photos will be</span>&nbsp\;<span style="color:black\;"><span style="font-size:10.5pt\;">posted to </span></span><span style="color:black\;"><span style="font-size:10.5pt\;">Facebook and the </span></span></span>&nbsp\;&nbsp\;&nbsp\;&nbsp\;<span style="font-family:arial\;"><span style="color:black\;"><span style="font-size:10.5pt\;">photo with the most likes will win.<br />\n6) We will post all of the homes and the winners on Facebook and</span></span>&nbsp\;<span style="color:black\;"><span style="font-size:10.5pt\;">Instagram.</span></span></span>
LOCATION:
UID:e.9232.2598
SEQUENCE:3
DTSTAMP:20260423T221340Z
URL:https://business.suncoastba.org/events/details/lego-building-contest-2598
END:VEVENT

END:VCALENDAR
