BEGIN:VCALENDAR
VERSION:2.0
PRODID:-//ChamberMaster//Event Calendar 2.0//EN
METHOD:PUBLISH
X-PUBLISHED-TTL:P3D
REFRESH-INTERVAL:P3D
CALSCALE:GREGORIAN
BEGIN:VEVENT
DTSTART:20190826T153000Z
DTEND:20190826T170000Z
X-MICROSOFT-CDO-ALLDAYEVENT:FALSE
SUMMARY:Lunch & Learn with Interiors Associates
DESCRIPTION:Join us for this free lunch and learn with Olympia Tile & Stone. Learn about the variety of tile products that are available and so much more. This is open to the public\, to those of the trade and designers.\n\nPlease RSVP as Going so that we can accurately account for the food. Thank you.
X-ALT-DESC;FMTTYPE=text/html:<span style="background-color:rgb(255\, 255\, 255)\; color:rgb(29\, 33\, 41)\; font-family:helvetica\,arial\,sans-serif\; font-size:14px">Join us for this free lunch and learn with Olympia Tile &amp\; Stone. Learn about the variety of tile products that are available and so much more. This is open to the public\, to those of the trade and designers.</span><br />\n<span style="background-color:rgb(255\, 255\, 255)\; color:rgb(29\, 33\, 41)\; font-family:helvetica\,arial\,sans-serif\; font-size:14px">Please RSVP as Going so that we can accurately account for the food. Thank you.</span>
LOCATION:Interiors Asssociates 1833 Tamiami Trl S Venice\, FL 34293 Coming South on 41 look for the sign that says "Fine Interior Remodeling". We are located in Venice between Shamrock and Seminole.
UID:e.9232.2281
SEQUENCE:3
DTSTAMP:20260424T095001Z
URL:https://business.suncoastba.org/events/details/lunch-learn-with-interiors-associates-2281
END:VEVENT

END:VCALENDAR
