BEGIN:VCALENDAR
VERSION:2.0
PRODID:-//ChamberMaster//Event Calendar 2.0//EN
METHOD:PUBLISH
X-PUBLISHED-TTL:P3D
REFRESH-INTERVAL:P3D
CALSCALE:GREGORIAN
BEGIN:VEVENT
DTSTART:20200416T140000Z
DTEND:20200416T150000Z
X-MICROSOFT-CDO-ALLDAYEVENT:FALSE
SUMMARY:Manatee County Update with County Commission Vanessa Baugh
DESCRIPTION:Join us for a Manatee County Update with District 5\, County Commissioner\, Vanessa Baugh.
X-ALT-DESC;FMTTYPE=text/html:Join us for a Manatee County Update with District 5\, County Commissioner\, Vanessa Baugh.&nbsp\;&nbsp\;&nbsp\;&nbsp\;
LOCATION:Virtual Zoom Meeting: Join URL: https://us02web.zoom.us/j/877437877
UID:e.9232.2590
SEQUENCE:3
DTSTAMP:20260423T232023Z
URL:https://business.suncoastba.org/events/details/manatee-county-update-with-county-commission-vanessa-baugh-2590
END:VEVENT

END:VCALENDAR
