BEGIN:VCALENDAR
VERSION:2.0
PRODID:-//ChamberMaster//Event Calendar 2.0//EN
METHOD:PUBLISH
X-PUBLISHED-TTL:P3D
REFRESH-INTERVAL:P3D
CALSCALE:GREGORIAN
BEGIN:VEVENT
DTSTART:20180517T213000Z
DTEND:20180518T003000Z
X-MICROSOFT-CDO-ALLDAYEVENT:FALSE
SUMMARY:Market Snapshot- General Membership Meeting
DESCRIPTION:General Membership Meeting SMC Hosting "Market Snapshot"\n\n\n\nCome hear a snapshot of our current housing market and join in the discussion with our expert panelists who will address major economic initiatives and housing trends that affect your business and bottom line.\n\n\n\nModerated by John Wiseman (President CORE Construction)\n\nGuest Speakers:\n\nDrayton Sanders (President of Michael Saunders & Company)\n\nMarty Black (West Villages Chairman)\n\nVanessa Baugh ( Manatee County Commissioner)\n\nVan Osborne (VP New Home Sales Stock Development)\n\n\n\nClick Here for Full Registration Details\n\n \n\nRSVP  ASAP ~ Always a sell out crowd!\n\n \n\nPlease note proper attire is required at LWRCC\, no blue jeans or denim skirts allowed.
X-ALT-DESC;FMTTYPE=text/html:<span style="color: rgb(51\, 51\, 51)\; font-family: sans-serif\, Arial\, Verdana\, &quot\;Trebuchet MS&quot\;\; font-size: 12px\;"><span style="font-family: arial\;">General Membership Meeting&nbsp\;SMC Hosting &quot\;Market Snapshot&quot\;<br />\n<br />\nCome hear a snapshot of our current housing market and join in the discussion with our expert panelists who will address major economic initiatives and housing trends that affect your business and bottom line.<br />\n<br />\nModerated by John Wiseman (President CORE Construction)<br />\nGuest Speakers:<br />\nDrayton Sanders (President of Michael Saunders &amp\; Company)<br />\nMarty Black (West Villages Chairman)<br />\nVanessa Baugh ( Manatee County Commissioner)<br />\nVan Osborne (VP New Home Sales Stock Development)<br />\n<br />\n<a href="https://chambermaster.blob.core.windows.net/userfiles/UserFiles/chambers/9232/File/MarketSnapshotFlyer5.17.18.pdf"><strong>Click Here for Full Registration Details</strong></a><br />\n&nbsp\;<br />\n<span style="color: rgb(0\, 0\, 128)\;"><span style="font-weight: bold\;">RSVP&nbsp\; ASAP ~ Always a sell out crowd!</span></span></span><br />\n&nbsp\;<br />\n<span style="font-size:14px\;"><strong>Please note proper attire is required at LWRCC\, no blue jeans or denim skirts allowed.</strong></span></span>
LOCATION:Lakewood Ranch Golf & Country Club 7650 Legacy Blvd. Lakewood Ranch\, FL 34202
UID:e.9232.1811
SEQUENCE:3
DTSTAMP:20260423T111917Z
URL:https://business.suncoastba.org/events/details/market-snapshot-general-membership-meeting-1811
END:VEVENT

END:VCALENDAR
