BEGIN:VCALENDAR
VERSION:2.0
PRODID:-//ChamberMaster//Event Calendar 2.0//EN
METHOD:PUBLISH
X-PUBLISHED-TTL:P3D
REFRESH-INTERVAL:P3D
CALSCALE:GREGORIAN
BEGIN:VEVENT
DTSTART:20210610T213000Z
DTEND:20210611T003000Z
X-MICROSOFT-CDO-ALLDAYEVENT:FALSE
SUMMARY:Market Snapshot- General Membership Meeting
DESCRIPTION:General Membership Meeting our Sales and Marketing Council will be hosting the annual "Market Snapshot."\n\n\n\nCome hear a snapshot of our current housing market plus an update on the current economy. Join in the discussion with our expert panelists who will address major economic initiatives and housing trends that affect your business and bottom line.\n\n\n\nModerator- John Wiseman (JP Wiseman Construction Services)\n\nCustom Home Panelist- Ryan Perrone (Nautilus Homes)\n\nRealtor Panelist- Alex Krumm (NextHome Excellence)\n\nCommercial Panelist- Laura Cole (LWR Communities)\n\nProduction Builder Panelist- David Adams (Highland Homes)
X-ALT-DESC;FMTTYPE=text/html:<span font-size:="" style="color: rgb(51\, 51\, 51)\; font-family: sans-serif\, Arial\, Verdana\, " trebuchet=""><span style="font-family: arial\;">General Membership Meeting our Sales and Marketing Council will be hosting the annual &quot\;Market Snapshot.&quot\;<br />\n<br />\nCome hear a snapshot of our current housing market plus an update on the current economy. Join in the discussion with our expert panelists who will address major economic initiatives and housing trends that affect your business and bottom line.</span></span><br />\n<br />\nModerator- John Wiseman (JP Wiseman Construction Services)<br />\nCustom Home Panelist- Ryan Perrone (Nautilus Homes)<br />\nRealtor Panelist- Alex Krumm (NextHome Excellence)<br />\nCommercial Panelist- Laura Cole (LWR Communities)<br />\nProduction Builder Panelist- David Adams (Highland Homes)
LOCATION:Lakewood Ranch Golf & Country Club 7650 Legacy Blvd.\, Lakewood Ranch 34202
UID:e.9232.2644
SEQUENCE:3
DTSTAMP:20260423T031437Z
URL:https://business.suncoastba.org/events/details/market-snapshot-general-membership-meeting-2644
END:VEVENT

END:VCALENDAR
