BEGIN:VCALENDAR
VERSION:2.0
PRODID:-//ChamberMaster//Event Calendar 2.0//EN
METHOD:PUBLISH
X-PUBLISHED-TTL:P3D
REFRESH-INTERVAL:P3D
CALSCALE:GREGORIAN
BEGIN:VEVENT
DTSTART:20160125T140000Z
DTEND:20160125T220000Z
X-MICROSOFT-CDO-ALLDAYEVENT:FALSE
SUMMARY:Marketing & Communication Strategies for Aging & Accessibiility (CAPS I)
DESCRIPTION:Millions of American are living longer and more active lives. With their changing lifestyles\, maturing american are also looking to revitalize their home environments. Learn best practices in communicating and interacting with this exciting and evolving population. As a graduate of this course you will be able to: Explain the three segments within the Aging in Place market that presents business opportunities for building professionals. Implement a process for promoting new opportunities for products and services in the AIP market. Enhance your sales process with effective techniques for the AIP market. NAHB- Course .6 CEU- CILB# 0610381 \,5 gen\; IDCEC# 102872- .6 GEN.
X-ALT-DESC;FMTTYPE=text/html:Millions of American are living longer and more active lives. With their changing lifestyles\, maturing american are also looking to revitalize their home environments. Learn best practices in communicating and interacting with this exciting and evolving population. As a graduate of this course you will be able to: Explain the three segments within the Aging in Place market that presents business opportunities for building professionals. Implement a process for promoting new opportunities for products and services in the AIP market. Enhance your sales process with effective techniques for the AIP market. NAHB- Course .6 CEU- CILB# 0610381 \,5 gen\; IDCEC# 102872- .6 GEN.
LOCATION:Manatee-Sarsota Building Industry Association (BIA) 6983 Professional Parkway E. Sarsota\, FL 34240
UID:e.9232.1038
SEQUENCE:3
DTSTAMP:20260421T124440Z
URL:https://business.suncoastba.org/events/details/marketing-communication-strategies-for-aging-accessibiility-caps-i-01-25-2016-1038
END:VEVENT

END:VCALENDAR
