BEGIN:VCALENDAR
VERSION:2.0
PRODID:-//ChamberMaster//Event Calendar 2.0//EN
METHOD:PUBLISH
X-PUBLISHED-TTL:P3D
REFRESH-INTERVAL:P3D
CALSCALE:GREGORIAN
BEGIN:VEVENT
DTSTART:20210513T213000Z
DTEND:20210514T000000Z
X-MICROSOFT-CDO-ALLDAYEVENT:FALSE
SUMMARY:Member Mixer at Conley Buick GMC
DESCRIPTION:Come Mix and Mingle with your fellow members! Be sure to bring plenty of business cards! \n \n\nConley Buick GMC Subaru invites you to visit their showroom\, enjoy some food and drinks\, network with your fellow members and win some fabulous raffle prizes!
X-ALT-DESC;FMTTYPE=text/html:<span style="color: rgb(51\, 51\, 51)\; background-color: rgb(255\, 255\, 255)\; font-family: arial\; font-size: 14px\;">Come Mix and Mingle with your fellow members! Be sure to bring plenty of business cards!&nbsp\;</span>\n<div font-size:="" style="color: rgb(51\, 51\, 51)\; font-family: sans-serif\, Arial\, Verdana\, " trebuchet="">&nbsp\;</div>\n\n<div font-size:="" style="color: rgb(51\, 51\, 51)\; font-family: sans-serif\, Arial\, Verdana\, " trebuchet=""><span style="font-family: arial\; font-size: 14px\; background-color: rgb(255\, 255\, 255)\;">Conley Buick&nbsp\;GMC Subaru invites you to visit their</span><span style="font-family: arial\; font-size: 14px\; background-color: rgb(255\, 255\, 255)\; color: rgb(34\, 34\, 34)\; line-height: normal\;">&nbsp\;showroom\, enjoy some food and drinks\, network with your fellow members and win some fabulous raffle prizes!&nbsp\;</span><br />\n&nbsp\;</div>\n
LOCATION:800 Cortez Rd W Bradenton\, FL 34207
UID:e.9232.2648
SEQUENCE:3
DTSTAMP:20260423T052105Z
URL:https://business.suncoastba.org/events/details/member-mixer-at-conley-buick-gmc-2648
END:VEVENT

END:VCALENDAR
