BEGIN:VCALENDAR
VERSION:2.0
PRODID:-//ChamberMaster//Event Calendar 2.0//EN
METHOD:PUBLISH
X-PUBLISHED-TTL:P3D
REFRESH-INTERVAL:P3D
CALSCALE:GREGORIAN
BEGIN:VEVENT
DTSTART:20160225T220000Z
DTEND:20160226T000000Z
X-MICROSOFT-CDO-ALLDAYEVENT:FALSE
SUMMARY:Member Mixer at DreamMaker Bath & Kitchen
DESCRIPTION:Come Mix and Mingle with your fellow members! Be sure to bring plenty of business cards! \n\n\n\nDreamMaker Bath & Kitchen invites you to visit their showroom\, enjoy some food and drinks\, network with your fellow members and win some fabulous raffle prizes!
X-ALT-DESC;FMTTYPE=text/html:<span style="font-size:14px\;"><span style="font-family:arial\;">Come Mix and Mingle with your fellow members! Be sure to bring plenty of business cards!&nbsp\;<br />\n<br />\nDreamMaker&nbsp\;Bath &amp\;&nbsp\;Kitchen invites you to visit their<span style="color: rgb(34\, 34\, 34)\; line-height: normal\;">&nbsp\;showroom\, enjoy some food and drinks\, network with your fellow members and win some fabulous raffle prizes!&nbsp\;</span></span></span>
LOCATION:DreamMaker Bath & Kitchen 816 Manatee Avenue East Bradenton\, FL 34208
UID:e.9232.1254
SEQUENCE:3
DTSTAMP:20260421T123642Z
URL:https://business.suncoastba.org/events/details/member-mixer-at-dreammaker-bath-kitchen-02-25-2016-1254
END:VEVENT

END:VCALENDAR
