BEGIN:VCALENDAR
VERSION:2.0
PRODID:-//ChamberMaster//Event Calendar 2.0//EN
METHOD:PUBLISH
X-PUBLISHED-TTL:P3D
REFRESH-INTERVAL:P3D
CALSCALE:GREGORIAN
BEGIN:VEVENT
DTSTART:20211021T213000Z
DTEND:20211021T233000Z
X-MICROSOFT-CDO-ALLDAYEVENT:FALSE
SUMMARY:Member Mixer at Fine Craft Custom Cabinetry
DESCRIPTION:Come Mix and Mingle with your fellow members! Come check out Graber Cabinet's brand new showroom. Be sure to bring plenty of business cards! \n\n\nGraber invites you to visit their showroom\, enjoy some food and drinks\, network with your fellow members and win some fabulous raffle prizes!
X-ALT-DESC;FMTTYPE=text/html:<span style="color: rgb(51\, 51\, 51)\; background-color: rgb(255\, 255\, 255)\;">C</span><span style="color: rgb(51\, 51\, 51)\; background-color: rgb(255\, 255\, 255)\; font-family: arial\; font-size: 14px\;">ome Mix and Mingle with your fellow members! Come check out Graber Cabinet&#39\;s brand new showroom. Be sure to bring plenty of business cards!&nbsp\;</span>\n<div font-size:="" style="color: rgb(51\, 51\, 51)\; font-family: sans-serif\, Arial\, Verdana\, " trebuchet=""><br />\n<span style="font-family: arial\; font-size: 14px\;">Graber invites you to visit their</span><span style="font-family: arial\; font-size: 14px\; color: rgb(34\, 34\, 34)\; line-height: normal\;">&nbsp\;showroom\, enjoy some food and drinks\, network with your fellow members and win some fabulous raffle prizes!&nbsp\;</span></div>\n
LOCATION:Fine Craft Custom Cabinetry 5822 24th Street East Bradenton\, FL 34203
UID:e.9232.2654
SEQUENCE:3
DTSTAMP:20260422T213937Z
URL:https://business.suncoastba.org/events/details/member-mixer-at-fine-craft-custom-cabinetry-2654
END:VEVENT

END:VCALENDAR
