BEGIN:VCALENDAR
VERSION:2.0
PRODID:-//ChamberMaster//Event Calendar 2.0//EN
METHOD:PUBLISH
X-PUBLISHED-TTL:P3D
REFRESH-INTERVAL:P3D
CALSCALE:GREGORIAN
BEGIN:VEVENT
DTSTART:20151022T213000Z
DTEND:20151022T230000Z
X-MICROSOFT-CDO-ALLDAYEVENT:FALSE
SUMMARY:Member Mixer at ProSource Wholesale Flooring
DESCRIPTION:Come Mix and Mingle with your fellow members! ProSource invites you to visit their showroom and enjoy some snacks\,  beverages and some great networking. Be sure to bring plenty of business cards!
X-ALT-DESC;FMTTYPE=text/html:<span style="font-size:14px\;"><span style="font-family:arial\;">Come Mix and Mingle with your fellow members! </span></span><span style="font-family: arial\; font-size: 14px\; line-height: 22.4px\;">ProSource</span><span style="font-family: arial\; font-size: 14px\; line-height: 22.4px\;">&nbsp\;invites you to visit their showroom and enjoy some snacks\, &nbsp\;beverages and some great networking.&nbsp\;</span><span style="font-size:14px\;"><span style="font-family:arial\;">Be sure to bring plenty of business cards!&nbsp\;</span></span>
LOCATION:ProSource Wholesale Flooring 8159 25th Court East\, Sarasota\, FL 34243
UID:e.9232.1033
SEQUENCE:3
DTSTAMP:20260421T160414Z
URL:https://business.suncoastba.org/events/details/member-mixer-at-prosource-wholesale-flooring-10-22-2015-1033
END:VEVENT

END:VCALENDAR
