BEGIN:VCALENDAR
VERSION:2.0
PRODID:-//ChamberMaster//Event Calendar 2.0//EN
METHOD:PUBLISH
X-PUBLISHED-TTL:P3D
REFRESH-INTERVAL:P3D
CALSCALE:GREGORIAN
BEGIN:VEVENT
DTSTART:20200227T223000Z
DTEND:20200228T003000Z
X-MICROSOFT-CDO-ALLDAYEVENT:FALSE
SUMMARY:Member Mixer at RIM Express
DESCRIPTION:Come Mix and Mingle with your fellow members! Be sure to bring plenty of business cards! \n\n\nRIM Express invites you to visit their showroom to enjoy some food and drinks and network with your fellow members
X-ALT-DESC;FMTTYPE=text/html:<span style="color: rgb(51\, 51\, 51)\; background-color: rgb(255\, 255\, 255)\; font-family: arial\; font-size: 14px\;">Come Mix and Mingle with your fellow members! Be sure to bring plenty of business cards!&nbsp\;</span>\n<div font-size:="" style="color: rgb(51\, 51\, 51)\; font-family: sans-serif\, Arial\, Verdana\, &quot\;Trebuchet MS&quot\;\; font-size: 13px\;" trebuchet=""><br />\n<span style="font-family: arial\; font-size: 14px\;">RIM Express invites you to visit their</span><span style="font-family: arial\; font-size: 14px\; color: rgb(34\, 34\, 34)\; line-height: normal\;">&nbsp\;showroom to enjoy some food and drinks and network with your fellow members&nbsp\;</span></div>\n
LOCATION:325 Cattlemen Road Unit D Sarasota\, FL 34232
UID:e.9232.2551
SEQUENCE:3
DTSTAMP:20260424T020353Z
URL:https://business.suncoastba.org/events/details/member-mixer-at-rim-express-2551
END:VEVENT

END:VCALENDAR
