BEGIN:VCALENDAR
VERSION:2.0
PRODID:-//ChamberMaster//Event Calendar 2.0//EN
METHOD:PUBLISH
X-PUBLISHED-TTL:P3D
REFRESH-INTERVAL:P3D
CALSCALE:GREGORIAN
BEGIN:VEVENT
DTSTART:20200115T223000Z
DTEND:20200116T003000Z
X-MICROSOFT-CDO-ALLDAYEVENT:FALSE
SUMMARY:Member Mixer at Robb & Stucky Sponsored by the Herald Tribune
DESCRIPTION:Come Mix and Mingle with your fellow members! Be sure to bring plenty of business cards! \n\n\nRobb & Stucky invites you to visit their showroom\, enjoy some food and drinks\, network with your fellow members and win some fabulous raffle prizes all hosted by the Sarasota Herald-Tribune.
X-ALT-DESC;FMTTYPE=text/html:<span style="color: rgb(51\, 51\, 51)\; background-color: rgb(255\, 255\, 255)\; font-family: arial\; font-size: 14px\;">Come Mix and Mingle with your fellow members! Be sure to bring plenty of business cards!&nbsp\;</span>\n<div font-size:="" style="color: rgb(51\, 51\, 51)\; font-family: sans-serif\, Arial\, Verdana\, " trebuchet=""><br />\n<span style="font-family: arial\; font-size: 14px\;">Robb &amp\; Stucky invites you to visit their</span><span style="font-family: arial\; font-size: 14px\; color: rgb(34\, 34\, 34)\; line-height: normal\;">&nbsp\;showroom\, enjoy some food and drinks\, network with your fellow members and win some fabulous raffle prizes all hosted by the Sarasota Herald-Tribune.</span></div>\n
LOCATION:Robb & Stucky Furniture 7557 S. Tamiami Trail Sarasota\, FL 34231
UID:e.9232.2547
SEQUENCE:3
DTSTAMP:20260424T042851Z
URL:https://business.suncoastba.org/events/details/member-mixer-at-robb-stucky-sponsored-by-the-herald-tribune-2547
END:VEVENT

END:VCALENDAR
