BEGIN:VCALENDAR
VERSION:2.0
PRODID:-//ChamberMaster//Event Calendar 2.0//EN
METHOD:PUBLISH
X-PUBLISHED-TTL:P3D
REFRESH-INTERVAL:P3D
CALSCALE:GREGORIAN
BEGIN:VEVENT
DTSTART:20170826T190000Z
DTEND:20170826T230000Z
X-MICROSOFT-CDO-ALLDAYEVENT:FALSE
SUMMARY:Member Mixer/Grand Opening at Sarasota Outdoor Kitchen
DESCRIPTION:Come Mix and Mingle with your fellow members! Be sure to bring plenty of business cards! \n\n\n\nSarasota Outdoor Kitchens invites you to their Grand Opening and to visit their showroom!
X-ALT-DESC;FMTTYPE=text/html:<span style="color: rgb(51\, 51\, 51)\; background-color: rgb(255\, 255\, 255)\; font-family: arial\; font-size: 14px\;">Come Mix and Mingle with your fellow members! Be sure to bring plenty of business cards!&nbsp\;</span><br style="color: rgb(51\, 51\, 51)\; font-family: sans-serif\, Arial\, Verdana\, &quot\;Trebuchet MS&quot\;\; font-size: 13px\;" />\n<br />\n<span style="color: rgb(51\, 51\, 51)\; font-family: sans-serif\, Arial\, Verdana\, &quot\;Trebuchet MS&quot\;\; font-size: 13px\; background-color: rgb(255\, 255\, 255)\;"><span style="font-size: 14px\;"><span style="font-family: tahoma\;">Sarasota Outdoor Kitchens invites you to their Grand Opening and to visit their showroom!</span></span></span><br />\n&nbsp\;
LOCATION:800 Bell Rd Unit A Sarasota\, FL 34240
UID:e.9232.1771
SEQUENCE:3
DTSTAMP:20260422T203928Z
URL:https://business.suncoastba.org/events/details/member-mixer-grand-opening-at-sarasota-outdoor-kitchen-1771
END:VEVENT

END:VCALENDAR
