BEGIN:VCALENDAR
VERSION:2.0
PRODID:-//ChamberMaster//Event Calendar 2.0//EN
METHOD:PUBLISH
X-PUBLISHED-TTL:P3D
REFRESH-INTERVAL:P3D
CALSCALE:GREGORIAN
BEGIN:VEVENT
DTSTART:20200430T130000Z
DTEND:20200430T140000Z
X-MICROSOFT-CDO-ALLDAYEVENT:FALSE
SUMMARY:Member Rebates Program Webinar
DESCRIPTION:Did you know as a MSBIA member you're eligible for the thousands of dollars in rebates?  Join us for a Webinar presented by the Member Rebates Program to learn how you can save your company money each quarter!
X-ALT-DESC;FMTTYPE=text/html:Did you know as a MSBIA member you&#39\;re eligible for the thousands of dollars in rebates?&nbsp\; Join us for a Webinar presented by the Member Rebates Program to learn how you can save your company money each quarter!&nbsp\;
LOCATION:Virtual Meeting - YOU MUST REGISTER TO RECEIVE THE MEETING CODE!
UID:e.9232.2597
SEQUENCE:3
DTSTAMP:20260423T231758Z
URL:https://business.suncoastba.org/events/details/member-rebates-program-webinar-2597
END:VEVENT

END:VCALENDAR
