BEGIN:VCALENDAR
VERSION:2.0
PRODID:-//ChamberMaster//Event Calendar 2.0//EN
METHOD:PUBLISH
X-PUBLISHED-TTL:P3D
REFRESH-INTERVAL:P3D
CALSCALE:GREGORIAN
BEGIN:VEVENT
DTSTART:20210205T140000Z
DTEND:20210205T150000Z
X-MICROSOFT-CDO-ALLDAYEVENT:FALSE
SUMMARY:Membership Success Team committee meeting
DESCRIPTION:Come and be a part of THE Committee that is the life blood of the MSBIA! Join us on the Membership Success Team.
X-ALT-DESC;FMTTYPE=text/html:Come and be a part of THE Committee that is the life blood of the MSBIA! Join us on the Membership Success Team.
LOCATION:MSBIA Office 6650 Professional Parkway West\, Ste 102 Sarasota\, FL 34240
UID:e.9232.2633
SEQUENCE:3
DTSTAMP:20260423T091905Z
URL:https://business.suncoastba.org/events/details/membership-success-team-committee-meeting-2633
END:VEVENT

END:VCALENDAR
