BEGIN:VCALENDAR
VERSION:2.0
PRODID:-//ChamberMaster//Event Calendar 2.0//EN
METHOD:PUBLISH
X-PUBLISHED-TTL:P3D
REFRESH-INTERVAL:P3D
CALSCALE:GREGORIAN
BEGIN:VEVENT
DTSTART:20160517T200000Z
DTEND:20160517T210000Z
X-MICROSOFT-CDO-ALLDAYEVENT:FALSE
SUMMARY:Membership TEAM Meeting
DESCRIPTION:MEMBERSHIP TEAM is open to all members of the Association. Meetings are at 4pm the 3rd Tuesday of every month.\n\n\n\nThe Membership Committee shall:\n\n\n	Brainstorm ideas for annual membership drives\,\n	promote involvement in association events\, education and gatherings\,\n	engage members (new and seasoned) with check-up calls\,\n	conduct "featured member" interviews\,\n	assist with locations and sponsors for member mixers\, breakfasts and GMMs\,\n	promote the MSBIA at local events (home shows and business expos)\,\n	be ambassadors for new and "lost" members at meetings and events\,\n	plan the annual SPIKE club outing\n	promoting and helping builders with the Pinnacle Builder Program\,\n	forward member good news to membership director for publications and social media\,\n	conduct exit surveys with non-renewed members\,\n	recognizes and awards SPIKE members at monthly meetings.
X-ALT-DESC;FMTTYPE=text/html:<span style="font-size:14px\;"><span style="font-family:arial\;"><span class="title4" style="box-sizing: border-box\; color: rgb(68\, 68\, 68)\; line-height: 20px\; margin: 0px\;"><span style="box-sizing: border-box\; color: rgb(0\, 88\, 144)\;"><strong style="box-sizing: border-box\;">MEMBERSHIP TEAM</strong></span>&nbsp\;is open to all members of the Association. Meetings are at 4pm the 3rd Tuesday of every month.</span><br style="box-sizing: border-box\; color: rgb(63\, 63\, 63)\; font-family: 'Helvetica Neue'\, Helvetica\, Arial\, sans-serif\; font-size: 14px\; line-height: 18px\;" />\n<br style="box-sizing: border-box\; color: rgb(63\, 63\, 63)\; font-family: 'Helvetica Neue'\, Helvetica\, Arial\, sans-serif\; font-size: 14px\; line-height: 18px\;" />\n<span class="title4" style="box-sizing: border-box\; color: rgb(68\, 68\, 68)\; line-height: 20px\; margin: 0px\;">The Membership Committee shall:</span></span></span>\n\n<ul style="box-sizing: border-box\; margin-top: 0px\; margin-bottom: 10px\; color: rgb(63\, 63\, 63)\; font-family: 'Helvetica Neue'\, Helvetica\, Arial\, sans-serif\; font-size: 14px\; line-height: 18px\;">\n	<li style="box-sizing: border-box\;"><span style="font-size:14px\;"><span style="font-family:arial\;"><span class="title4" style="box-sizing: border-box\; color: rgb(68\, 68\, 68)\; line-height: 20px\; margin: 0px\;">Brainstorm ideas for annual membership drives\,</span></span></span></li>\n	<li style="box-sizing: border-box\;"><span style="font-size:14px\;"><span style="font-family:arial\;"><span class="title4" style="box-sizing: border-box\; color: rgb(68\, 68\, 68)\; line-height: 20px\; margin: 0px\;">promote involvement in association events\, education and gatherings\,</span></span></span></li>\n	<li style="box-sizing: border-box\;"><span style="font-size:14px\;"><span style="font-family:arial\;"><span class="title4" style="box-sizing: border-box\; color: rgb(68\, 68\, 68)\; line-height: 20px\; margin: 0px\;">engage members (new and seasoned) with check-up calls\,</span></span></span></li>\n	<li style="box-sizing: border-box\;"><span style="font-size:14px\;"><span style="font-family:arial\;"><span class="title4" style="box-sizing: border-box\; color: rgb(68\, 68\, 68)\; line-height: 20px\; margin: 0px\;">conduct &ldquo\;featured member&rdquo\; interviews\,</span></span></span></li>\n	<li style="box-sizing: border-box\;"><span style="font-size:14px\;"><span style="font-family:arial\;"><span class="title4" style="box-sizing: border-box\; color: rgb(68\, 68\, 68)\; line-height: 20px\; margin: 0px\;">assist with locations and sponsors for member mixers\, breakfasts and GMMs\,</span></span></span></li>\n	<li style="box-sizing: border-box\;"><span style="font-size:14px\;"><span style="font-family:arial\;"><span class="title4" style="box-sizing: border-box\; color: rgb(68\, 68\, 68)\; line-height: 20px\; margin: 0px\;">promote the MSBIA at local events (home shows and business expos)\,</span></span></span></li>\n	<li style="box-sizing: border-box\;"><span style="font-size:14px\;"><span style="font-family:arial\;"><span class="title4" style="box-sizing: border-box\; color: rgb(68\, 68\, 68)\; line-height: 20px\; margin: 0px\;">be ambassadors for new and &ldquo\;lost&rdquo\; members at meetings and events\,</span></span></span></li>\n	<li style="box-sizing: border-box\;"><span style="font-size:14px\;"><span style="font-family:arial\;"><span class="title4" style="box-sizing: border-box\; color: rgb(68\, 68\, 68)\; line-height: 20px\; margin: 0px\;">plan the annual SPIKE club outing</span></span></span></li>\n	<li style="box-sizing: border-box\;"><span style="font-size:14px\;"><span style="font-family:arial\;"><span class="title4" style="box-sizing: border-box\; color: rgb(68\, 68\, 68)\; line-height: 20px\; margin: 0px\;">promoting and helping builders with the Pinnacle Builder Program\,</span></span></span></li>\n	<li style="box-sizing: border-box\;"><span style="font-size:14px\;"><span style="font-family:arial\;"><span class="title4" style="box-sizing: border-box\; color: rgb(68\, 68\, 68)\; line-height: 20px\; margin: 0px\;">forward member good news to membership director for publications and social media\,</span></span></span></li>\n	<li style="box-sizing: border-box\;"><span style="font-size:14px\;"><span style="font-family:arial\;"><span class="title4" style="box-sizing: border-box\; color: rgb(68\, 68\, 68)\; line-height: 20px\; margin: 0px\;">conduct exit surveys with non-renewed members\,</span></span></span></li>\n	<li style="box-sizing: border-box\;"><span style="font-size:14px\;"><span style="font-family:arial\;"><span class="title4" style="box-sizing: border-box\; color: rgb(68\, 68\, 68)\; line-height: 20px\; margin: 0px\;">recognizes and awards SPIKE members at monthly meetings.</span></span></span></li>\n</ul>\n
LOCATION:MSBIA Office 6983 Professional Parkway East Sarasota\, FL 34240
UID:e.9232.1196
SEQUENCE:3
DTSTAMP:20260421T175757Z
URL:https://business.suncoastba.org/events/details/membership-team-meeting-05-17-2016-1196
END:VEVENT

END:VCALENDAR
