BEGIN:VCALENDAR
VERSION:2.0
PRODID:-//ChamberMaster//Event Calendar 2.0//EN
METHOD:PUBLISH
X-PUBLISHED-TTL:P3D
REFRESH-INTERVAL:P3D
CALSCALE:GREGORIAN
BEGIN:VEVENT
DTSTART:20191119T210000Z
DTEND:20191119T220000Z
X-MICROSOFT-CDO-ALLDAYEVENT:FALSE
SUMMARY:Membership TEAM Meeting
DESCRIPTION:Please join the Membership TEAM and new Membership Chair\, Ariana Gillooly for a 2020 planning meeting!
X-ALT-DESC;FMTTYPE=text/html:Please join the Membership TEAM and new Membership Chair\, Ariana Gillooly for a 2020 planning meeting!
LOCATION:MSBIA office 6650 Professional Parkway West Suite 102 Sarasota\, FL 34240
UID:e.9232.2533
SEQUENCE:3
DTSTAMP:20260424T064142Z
URL:https://business.suncoastba.org/events/details/membership-team-meeting-2533
END:VEVENT

END:VCALENDAR
