BEGIN:VCALENDAR
VERSION:2.0
PRODID:-//ChamberMaster//Event Calendar 2.0//EN
METHOD:PUBLISH
X-PUBLISHED-TTL:P3D
REFRESH-INTERVAL:P3D
CALSCALE:GREGORIAN
BEGIN:VEVENT
DTSTART:20200508T130000Z
DTEND:20200508T140000Z
X-MICROSOFT-CDO-ALLDAYEVENT:FALSE
SUMMARY:Membership TEAM Meeting
DESCRIPTION:Join our first Membership TEAM Zoom Meeting!\n\nAre you looking to become involved at the MSBIA? This is a great opportunity to meet new people while promoting your business and the Association!
X-ALT-DESC;FMTTYPE=text/html:Join our first Membership TEAM Zoom Meeting!<br />\nAre you looking to become involved at the MSBIA? This is a great opportunity to meet new people while promoting your business and the Association!&nbsp\;
LOCATION:Virtual Zoom Meeting - YOU MUST REGISTER TO RECEIVE THE CODE!
UID:e.9232.2601
SEQUENCE:3
DTSTAMP:20260423T220110Z
URL:https://business.suncoastba.org/events/details/membership-team-meeting-2601
END:VEVENT

END:VCALENDAR
