BEGIN:VCALENDAR
VERSION:2.0
PRODID:-//ChamberMaster//Event Calendar 2.0//EN
METHOD:PUBLISH
X-PUBLISHED-TTL:P3D
REFRESH-INTERVAL:P3D
CALSCALE:GREGORIAN
BEGIN:VEVENT
DTSTART:20210319T130000Z
DTEND:20210319T140000Z
X-MICROSOFT-CDO-ALLDAYEVENT:FALSE
SUMMARY:Membership TEAM Meeting
DESCRIPTION:Join our Membership TEAM Meeting!\n\nAre you looking to become involved at the MSBIA? This is a great opportunity to meet new people while promoting your business and the Association!
X-ALT-DESC;FMTTYPE=text/html:Join our Membership TEAM Meeting!<br />\nAre you looking to become involved at the MSBIA? This is a great opportunity to meet new people while promoting your business and the Association!&nbsp\;
LOCATION:MSBIA office 6650 Professional Parkway W.\, Ste 102 Sarasota\, FL 34240
UID:e.9232.2647
SEQUENCE:3
DTSTAMP:20260423T065032Z
URL:https://business.suncoastba.org/events/details/membership-team-meeting-2647
END:VEVENT

END:VCALENDAR
