BEGIN:VCALENDAR
VERSION:2.0
PRODID:-//ChamberMaster//Event Calendar 2.0//EN
METHOD:PUBLISH
X-PUBLISHED-TTL:P3D
REFRESH-INTERVAL:P3D
CALSCALE:GREGORIAN
BEGIN:VEVENT
DTSTART:20190418T213000Z
DTEND:20190419T000000Z
X-MICROSOFT-CDO-ALLDAYEVENT:FALSE
SUMMARY:MSBIA Anniversary Party
DESCRIPTION:Join the MSBIA for our 10 year merger Anniversary Party at the Bradenton Marauders Game.
X-ALT-DESC;FMTTYPE=text/html:<br />\n<span background-color:="" font-size:="" style="color: rgb(51\, 51\, 51)\; font-family: sans-serif\, Arial\, Verdana\, " trebuchet="">Join the MSBIA for our 10 year merger Anniversary Party at the Bradenton Marauders Game.&nbsp\;</span>
LOCATION:Bradenton Marauders ~ LECOM stadium 1611 9th St W. Bradenton\, FL 34205
UID:e.9232.2057
SEQUENCE:3
DTSTAMP:20260424T062733Z
URL:https://business.suncoastba.org/events/details/msbia-anniversary-party-2057
END:VEVENT

END:VCALENDAR
