BEGIN:VCALENDAR
VERSION:2.0
PRODID:-//ChamberMaster//Event Calendar 2.0//EN
METHOD:PUBLISH
X-PUBLISHED-TTL:P3D
REFRESH-INTERVAL:P3D
CALSCALE:GREGORIAN
BEGIN:VEVENT
DTSTART:20151203T223000Z
DTEND:20151204T013000Z
X-MICROSOFT-CDO-ALLDAYEVENT:FALSE
SUMMARY:MSBIA Christmas Party
DESCRIPTION:Whether you have been Naughty or Nice\n\nJoin us as we celebrate and give back! \n\nA portion of your ticket will go to benefit Manatee Children Services. \n\nManatee-Sarasota BIA Christmas Party\n\n\n	Open Bar\n	Hot Hors d'oeuvres by \n	the Ranch Grill\n	Music by Steve Loftus\n	Games & Prizes
X-ALT-DESC;FMTTYPE=text/html:<h2 class="MsoNormal" style="margin-bottom: 0pt\; line-height: 93%\;"><span style="font-size:14px\;"><span style="font-family:arial\;">Whether you have been&nbsp\;Naughty or Nice<br />\nJoin us as we celebrate and give back!&nbsp\;<br />\nA portion of your ticket will go to benefit Manatee Children Services.&nbsp\;<br />\nManatee-Sarasota BIA Christmas Party</span></span></h2>\n\n<ul>\n	<li>Open Bar</li>\n	<li>Hot Hors d&rsquo\;oeuvres by&nbsp\;</li>\n	<li>the Ranch Grill</li>\n	<li>Music by Steve Loftus</li>\n	<li>Games &amp\; Prizes</li>\n</ul>\n
LOCATION:Gold Coast Eagle Distributors 7051 Wireless Ct\, Sarasota FL 34240
UID:e.9232.611
SEQUENCE:3
DTSTAMP:20260421T125612Z
URL:https://business.suncoastba.org/events/details/msbia-christmas-party-12-03-2015-611
END:VEVENT

END:VCALENDAR
