BEGIN:VCALENDAR
VERSION:2.0
PRODID:-//ChamberMaster//Event Calendar 2.0//EN
METHOD:PUBLISH
X-PUBLISHED-TTL:P3D
REFRESH-INTERVAL:P3D
CALSCALE:GREGORIAN
BEGIN:VEVENT
DTSTART:20160609T203000Z
DTEND:20160609T210000Z
X-MICROSOFT-CDO-ALLDAYEVENT:FALSE
SUMMARY:MSBIA Govenment Affairs Committee
DESCRIPTION:GOVERNMENT AFFAIRS COMMITTEE is open to all members of the Association. To serve as a recommending body to the BIA Executive Committee and Board of Directors for policy development and action on the government affairs issues of either local or statewide impact to the home building industry. The Government Affairs Committee Chair acts as a liaison between the Committee and the Board.
X-ALT-DESC;FMTTYPE=text/html:<span style="font-size:14px\;"><span style="font-family:arial\;"><span style="box-sizing: border-box\; line-height: 20px\; color: rgb(0\, 88\, 144)\;"><strong style="box-sizing: border-box\;">GOVERNMENT AFFAIRS COMMITTEE</strong></span><span style="color: rgb(68\, 68\, 68)\; line-height: 20px\;">&nbsp\;is open to all members of the Association.&nbsp\;To serve as a recommending body to the BIA Executive Committee and Board of Directors for policy development and action on the government affairs issues of either local or statewide impact to the home building industry.&nbsp\;The Government Affairs Committee Chair acts as&nbsp\;a liaison between the Committee and the Board.</span></span></span>
LOCATION:The Meadows Country Club 3101 Longmeadow Sarasota\, FL 34235
UID:e.9232.1220
SEQUENCE:3
DTSTAMP:20260421T200807Z
URL:https://business.suncoastba.org/events/details/msbia-govenment-affairs-committee-06-09-2016-1220
END:VEVENT

END:VCALENDAR
