BEGIN:VCALENDAR
VERSION:2.0
PRODID:-//ChamberMaster//Event Calendar 2.0//EN
METHOD:PUBLISH
X-PUBLISHED-TTL:P3D
REFRESH-INTERVAL:P3D
CALSCALE:GREGORIAN
BEGIN:VEVENT
DTSTART:20200429T180000Z
DTEND:20200429T190000Z
X-MICROSOFT-CDO-ALLDAYEVENT:FALSE
SUMMARY:NAHB Update - Zoom Meeting
DESCRIPTION:Join us for an update from NAHB's First Vice Chairman\, Chuck Fowke & NAHB's Chief Economist\, Bob Dietz.
X-ALT-DESC;FMTTYPE=text/html:Join us for an update from NAHB&#39\;s First Vice Chairman\, Chuck Fowke &amp\; NAHB&#39\;s Chief Economist\, Bob Dietz.
LOCATION:Virtual Zoom Meeting - YOU MUST REGISTER TO RECEIVE THE CODE!
UID:e.9232.2594
SEQUENCE:3
DTSTAMP:20260423T232002Z
URL:https://business.suncoastba.org/events/details/nahb-update-zoom-meeting-2594
END:VEVENT

END:VCALENDAR
