BEGIN:VCALENDAR
VERSION:2.0
PRODID:-//ChamberMaster//Event Calendar 2.0//EN
METHOD:PUBLISH
X-PUBLISHED-TTL:P3D
REFRESH-INTERVAL:P3D
CALSCALE:GREGORIAN
BEGIN:VEVENT
DTSTART:20200708T153000Z
DTEND:20200708T170000Z
X-MICROSOFT-CDO-ALLDAYEVENT:FALSE
SUMMARY:Navigating your Business through the COVID-19 Pandemic
DESCRIPTION:Join us for a Remodeler's Lunch and Learn. This month's topic will be Navigating your Business through the COVID-19 Pandemic. Featuring: IAS Marketing\, H&H Staffing and Security Alarm Corporation.
X-ALT-DESC;FMTTYPE=text/html:Join us for a Remodeler&#39\;s Lunch and Learn. This month&#39\;s topic will be Navigating your Business through the COVID-19 Pandemic. Featuring: IAS Marketing\, H&amp\;H Staffing and Security Alarm Corporation.
LOCATION:MSBIA Office 6650 Professional Pkwy W Suite 102 Sarasota\, FL 34240
UID:e.9232.2611
SEQUENCE:3
DTSTAMP:20260423T193255Z
URL:https://business.suncoastba.org/events/details/navigating-your-business-through-the-covid-19-pandemic-2611
END:VEVENT

END:VCALENDAR
