BEGIN:VCALENDAR
VERSION:2.0
PRODID:-//ChamberMaster//Event Calendar 2.0//EN
METHOD:PUBLISH
X-PUBLISHED-TTL:P3D
REFRESH-INTERVAL:P3D
CALSCALE:GREGORIAN
BEGIN:VEVENT
DTSTART:20200522T130000Z
DTEND:20200522T140000Z
X-MICROSOFT-CDO-ALLDAYEVENT:FALSE
SUMMARY:New and Not So New Member Orientation
DESCRIPTION:Join us for a New & Not So New Member Orientation and learn how to get the most of your Membership Investment!
X-ALT-DESC;FMTTYPE=text/html:Join us for a New &amp\; Not So New Member Orientation and learn how to get the most of your Membership Investment!
LOCATION:Virtual Zoom Meeting - Please register to receive the meeting code!
UID:e.9232.2605
SEQUENCE:3
DTSTAMP:20260423T221148Z
URL:https://business.suncoastba.org/events/details/new-and-not-so-new-member-orientation-2605
END:VEVENT

END:VCALENDAR
