BEGIN:VCALENDAR
VERSION:2.0
PRODID:-//ChamberMaster//Event Calendar 2.0//EN
METHOD:PUBLISH
X-PUBLISHED-TTL:P3D
REFRESH-INTERVAL:P3D
CALSCALE:GREGORIAN
BEGIN:VEVENT
DTSTART:20210623T160000Z
DTEND:20210623T173000Z
X-MICROSOFT-CDO-ALLDAYEVENT:FALSE
SUMMARY:New Member Briefing Luncheon
DESCRIPTION:Join the Membership Committee for a "New Member Briefing Luncheon" at our office.
X-ALT-DESC;FMTTYPE=text/html:Join the Membership Committee for a &quot\;New Member Briefing Luncheon&quot\; at our office.&nbsp\;&nbsp\;&nbsp\;&nbsp\;
LOCATION:MSBIA Office 6650 Professional Pkwy W. Suite 102 Sarasota\, FL 34240
UID:e.9232.2669
SEQUENCE:3
DTSTAMP:20260423T040642Z
URL:https://business.suncoastba.org/events/details/new-member-briefing-luncheon-2669
END:VEVENT

END:VCALENDAR
