BEGIN:VCALENDAR
VERSION:2.0
PRODID:-//ChamberMaster//Event Calendar 2.0//EN
METHOD:PUBLISH
X-PUBLISHED-TTL:P3D
REFRESH-INTERVAL:P3D
CALSCALE:GREGORIAN
BEGIN:VEVENT
DTSTART:20211014T213000Z
DTEND:20211014T233000Z
X-MICROSOFT-CDO-ALLDAYEVENT:FALSE
SUMMARY:Oktoberfest
DESCRIPTION:Come mingle with fellow members or if you are not a member come see what the MSBIA is all about! Bring a canned food donation and your favorite October beer to kick off Oktoberfest!
X-ALT-DESC;FMTTYPE=text/html:Come mingle with fellow members or if you are not a member come see what the MSBIA is all about! Bring a canned food donation and your favorite October beer to kick off Oktoberfest!<br />\n<br />\n&nbsp\;
LOCATION:6650 Professional Pkwy West Suite 102 Sarasota\, FL 34240
UID:e.9232.2676
SEQUENCE:3
DTSTAMP:20260422T225204Z
URL:https://business.suncoastba.org/events/details/oktoberfest-2676
END:VEVENT

END:VCALENDAR
